BEGIN:VCALENDAR
VERSION:2.0
PRODID:-//Squarespace Inc/Squarespace 6//v6//EN
BEGIN:VEVENT
UID:54a6ea98e4b037e9bac47f48@squarespace.com
DTSTAMP:20150102T190011Z
DTSTART:20151202T220000Z
DTEND:20151202T230000Z
SUMMARY:Lincoln Unit
GEO:40.143601;-89.34882
LOCATION:K. C. Hall\, 217 Limit St\, Lincoln\, IL\, 62656\, United States
END:VEVENT
END:VCALENDAR
