BEGIN:VCALENDAR
VERSION:2.0
PRODID:-//Squarespace Inc/Squarespace 6//v6//EN
BEGIN:VEVENT
UID:54a6ebc7e4b0d6033e43b163@squarespace.com
DTSTAMP:20150305T142626Z
DTSTART:20151202T230000Z
DTEND:20151203T000000Z
SUMMARY:LaSalle Unit
GEO:41.327869;-89.143939
LOCATION:Eagles Lodge\, 830 Harrison Street\, Peru\, IL
END:VEVENT
END:VCALENDAR
