BEGIN:VCALENDAR
VERSION:2.0
PRODID:-//Squarespace Inc/Squarespace 6//v6//EN
BEGIN:VEVENT
UID:54a6eeb9e4b034981b4dfb6d@squarespace.com
DTSTAMP:20150102T191808Z
DTSTART:20151218T140000Z
DTEND:20151218T170000Z
SUMMARY:Executive Board
END:VEVENT
END:VCALENDAR
