BEGIN:VCALENDAR
VERSION:2.0
PRODID:-//Squarespace Inc/Squarespace 6//v6//EN
BEGIN:VEVENT
UID:54a6ee72e4b0421d698f8861@squarespace.com
DTSTAMP:20150102T191642Z
DTSTART:20151212T003000Z
DTEND:20151212T013000Z
SUMMARY:Construction Unit
GEO:39.743448;-89.712231
LOCATION:IBEW Local 51 Hall\, 3171 Greenhead Dr\, Springfield\, IL\, 62711\
 , United States
END:VEVENT
END:VCALENDAR
