BEGIN:VCALENDAR
VERSION:2.0
PRODID:-//Squarespace Inc/Squarespace 6//v6//EN
BEGIN:VEVENT
UID:54a6edd7e4b0f7d742dbb6e5@squarespace.com
DTSTAMP:20150102T191405Z
DTSTART:20151210T220000Z
DTEND:20151210T230000Z
SUMMARY:Decatur Unit 15
GEO:39.884277;-88.935795
LOCATION:IBEW Local 146\, 3390 N Woodford St\, Decatur\, IL\, 62526\, Unite
 d States
END:VEVENT
END:VCALENDAR
