BEGIN:VCALENDAR
VERSION:2.0
PRODID:-//Squarespace Inc/Squarespace 6//v6//EN
BEGIN:VEVENT
UID:54a6e8c7e4b010b9ae2874af@squarespace.com
DTSTAMP:20150102T185506Z
DTSTART:20151201T210000Z
DTEND:20151201T220000Z
SUMMARY:Havana Unit
GEO:41.603289;-87.518429
LOCATION:VFW\, 425 W. Ave\, Havana\, IL
END:VEVENT
END:VCALENDAR
