BEGIN:VCALENDAR
VERSION:2.0
PRODID:-//Squarespace Inc/Squarespace 6//v6//EN
BEGIN:VEVENT
UID:54a6e997e4b0ac4256e042db@squarespace.com
DTSTAMP:20150102T185655Z
DTSTART:20151201T220000Z
DTEND:20151201T230000Z
SUMMARY:Galesburg Unit
GEO:42.047647;-93.622422
LOCATION:Galesburg Labor Temple\, 2423 Grand Ave.\, Galesburg\, IL
END:VEVENT
END:VCALENDAR
