BEGIN:VCALENDAR
VERSION:2.0
PRODID:-//Squarespace Inc/Squarespace 6//v6//EN
BEGIN:VEVENT
UID:54a6d3d4e4b02cb3ce0c1d08@squarespace.com
DTSTAMP:20150102T172318Z
DTSTART:20151105T210000Z
DTEND:20151105T220000Z
SUMMARY:Wood River Unit
GEO:38.934723;-90.154596
LOCATION:IBEW Local 649\, 4051 Humbert Rd\, Alton\, IL\, 62002\, United Sta
 tes
END:VEVENT
END:VCALENDAR
