BEGIN:VCALENDAR
VERSION:2.0
PRODID:-//Squarespace Inc/Squarespace 6//v6//EN
BEGIN:VEVENT
UID:54a6d355e4b041b86af404e6@squarespace.com
DTSTAMP:20150102T172102Z
DTSTART:20151104T220000Z
DTEND:20151104T230000Z
SUMMARY:Lincoln Unit
GEO:40.143601;-89.34882
LOCATION:K.C. Hall\, 217 Limit St\, Lincoln\, IL\, 62656\, United States
END:VEVENT
END:VCALENDAR
