BEGIN:VCALENDAR
VERSION:2.0
PRODID:-//Squarespace Inc/Squarespace 6//v6//EN
BEGIN:VEVENT
UID:54a6d38ae4b03ccd2a035235@squarespace.com
DTSTAMP:20150305T142557Z
DTSTART:20151104T230000Z
DTEND:20151105T000000Z
SUMMARY:LaSalle Unit
GEO:41.327869;-89.143939
LOCATION:Eagles Lodge\, 830 Harrison Street\, Peru\, IL
END:VEVENT
END:VCALENDAR
