BEGIN:VCALENDAR
VERSION:2.0
PRODID:-//Squarespace Inc/Squarespace 6//v6//EN
BEGIN:VEVENT
UID:54a6d2a9e4b0170492dd2b48@squarespace.com
DTSTAMP:20150102T171824Z
DTSTART:20151103T220000Z
DTEND:20151103T230000Z
SUMMARY:Galesburg Unit
GEO:40.932711;-90.333079
LOCATION:Galesburg Labor Temple\, 2423 Grand Ave.\, Galesburg\, IL
END:VEVENT
END:VCALENDAR
