BEGIN:VCALENDAR
VERSION:2.0
PRODID:-//Squarespace Inc/Squarespace 6//v6//EN
BEGIN:VEVENT
UID:54a6d2ede4b041b86af402c7@squarespace.com
DTSTAMP:20150102T171905Z
DTSTART:20151103T120000Z
DTEND:20151104T000000Z
SUMMARY:ELECTION DAY
END:VEVENT
END:VCALENDAR
