BEGIN:VCALENDAR
VERSION:2.0
PRODID:-//Squarespace Inc/Squarespace 6//v6//EN
BEGIN:VEVENT
UID:54a6d7fee4b0d1cd06ec7333@squarespace.com
DTSTAMP:20150102T174045Z
DTSTART:20151126T130000Z
DTEND:20151126T220000Z
SUMMARY:Office Closed - Thanksgiving Day
END:VEVENT
END:VCALENDAR
