BEGIN:VCALENDAR
VERSION:2.0
PRODID:-//Squarespace Inc/Squarespace 6//v6//EN
BEGIN:VEVENT
UID:54a6d76de4b0c9d38e0bf831@squarespace.com
DTSTAMP:20150102T173827Z
DTSTART:20151114T003000Z
DTEND:20151114T013000Z
SUMMARY:Construction
GEO:39.743448;-89.712231
LOCATION:IBEW Local 51 Hall\, 3171 Greenhead Dr\, Springfield\, IL\, 62711\
 , United States
END:VEVENT
END:VCALENDAR
