BEGIN:VCALENDAR
VERSION:2.0
PRODID:-//Squarespace Inc/Squarespace 6//v6//EN
BEGIN:VEVENT
UID:54a6d700e4b040ef97d8f756@squarespace.com
DTSTAMP:20150102T173644Z
DTSTART:20151112T223000Z
DTEND:20151112T233000Z
SUMMARY:Peoria Unit
GEO:40.739454;-89.570558
LOCATION:VFW 2602\, 1505 E. Lake St.\, Peoria Heights\, IL
END:VEVENT
END:VCALENDAR
