BEGIN:VCALENDAR
VERSION:2.0
PRODID:-//Squarespace Inc/Squarespace 6//v6//EN
BEGIN:VEVENT
UID:54a6d738e4b09569a137b22d@squarespace.com
DTSTAMP:20150102T173734Z
DTSTART:20151113T003000Z
DTEND:20151113T013000Z
SUMMARY:Jacksonville Unit
GEO:39.734908;-90.22799
LOCATION:AmVets Post 100\, 210 E. Court St.\, Jacksonville\, IL
END:VEVENT
END:VCALENDAR
