BEGIN:VCALENDAR
VERSION:2.0
PRODID:-//Squarespace Inc/Squarespace 6//v6//EN
BEGIN:VEVENT
UID:54a6d6a2e4b0375c084658c5@squarespace.com
DTSTAMP:20150102T173501Z
DTSTART:20151112T210000Z
DTEND:20151112T220000Z
SUMMARY:Decatur Unit
GEO:39.884277;-88.935795
LOCATION:IBEW Local 146\, 3390 N Woodford St\, Decatur\, IL\, 62526\, Unite
 d States
END:VEVENT
END:VCALENDAR
