BEGIN:VCALENDAR
VERSION:2.0
PRODID:-//Squarespace Inc/Squarespace 6//v6//EN
BEGIN:VEVENT
UID:54a6d5f2e4b04f5956f4992c@squarespace.com
DTSTAMP:20150102T173224Z
DTSTART:20151111T130000Z
DTEND:20151111T220000Z
SUMMARY:Office Closed\, Veterans' Day
END:VEVENT
END:VCALENDAR
