BEGIN:VCALENDAR
VERSION:2.0
PRODID:-//Squarespace Inc/Squarespace 6//v6//EN
BEGIN:VEVENT
UID:54a6d447e4b0b6dc3e10baaf@squarespace.com
DTSTAMP:20150102T172504Z
DTSTART:20151110T223000Z
DTEND:20151110T233000Z
SUMMARY:Champaign Unit
GEO:29.645462;-95.227052
LOCATION:VFW Post 5520\, 609 Edgebrook Dr.\, Champaign\, IL
END:VEVENT
END:VCALENDAR
