BEGIN:VCALENDAR
VERSION:2.0
PRODID:-//Squarespace Inc/Squarespace 6//v6//EN
BEGIN:VEVENT
UID:54a6d489e4b0f3612b10fac7@squarespace.com
DTSTAMP:20150102T172846Z
DTSTART:20151110T230000Z
DTEND:20151111T000000Z
SUMMARY:Bloomington Unit
GEO:40.443059;-89.023341
LOCATION:IBEW Local 197\, 2407 Beich Rd\, Bloomington\, IL\, 61705\, United 
 States
END:VEVENT
END:VCALENDAR
