BEGIN:VCALENDAR
VERSION:2.0
PRODID:-//Squarespace Inc/Squarespace 6//v6//EN
BEGIN:VEVENT
UID:54a6d1f9e4b0b6dc3e10afe6@squarespace.com
DTSTAMP:20150102T171541Z
DTSTART:20151101T060000Z
DTEND:20151101T080000Z
SUMMARY:Daylight Savings Time Ends
END:VEVENT
END:VCALENDAR
