BEGIN:VCALENDAR
VERSION:2.0
PRODID:-//Squarespace Inc/Squarespace 6//v6//EN
BEGIN:VEVENT
UID:54a6cf2fe4b0b6dc3e10a1ca@squarespace.com
DTSTAMP:20150102T170323Z
DTSTART:20151009T233000Z
DTEND:20151010T003000Z
SUMMARY:Construction Unit
GEO:39.743448;-89.712231
LOCATION:IBEW Local 51 Hall\, 3171 Greenhead Dr\, Springfield\, IL\, 62711\
 , United States
END:VEVENT
END:VCALENDAR
