BEGIN:VCALENDAR
VERSION:2.0
PRODID:-//Squarespace Inc/Squarespace 6//v6//EN
BEGIN:VEVENT
UID:54a6cef9e4b04f5956f4736f@squarespace.com
DTSTAMP:20150102T170224Z
DTSTART:20151008T213000Z
DTEND:20151008T223000Z
SUMMARY:Peoria Unit
GEO:44.948359;-93.25353
LOCATION:VFW 2602\, 1505 E. Lake St.\, Peoria Heights\, IL
END:VEVENT
END:VCALENDAR
