BEGIN:VCALENDAR
VERSION:2.0
PRODID:-//Squarespace Inc/Squarespace 6//v6//EN
BEGIN:VEVENT
UID:54a6cec7e4b0c9d38e0bcd5f@squarespace.com
DTSTAMP:20150102T170130Z
DTSTART:20151008T210000Z
DTEND:20151008T220000Z
SUMMARY:Decatur Unit 15
GEO:39.884277;-88.935795
LOCATION:IBEW Local 146\, 3390 N Woodford St\, Decatur\, IL\, 62526\, Unite
 d States
END:VEVENT
END:VCALENDAR
