BEGIN:VCALENDAR
VERSION:2.0
PRODID:-//Squarespace Inc/Squarespace 6//v6//EN
BEGIN:VEVENT
UID:54a6cd9ce4b0243cdd4c82d6@squarespace.com
DTSTAMP:20150102T165640Z
DTSTART:20151007T200000Z
DTEND:20151007T210000Z
SUMMARY:Clinton Unit
GEO:40.582532;-98.362029
LOCATION:Elks Lodge #785\, 1520 E. South St.\, Clinton\, IL
END:VEVENT
END:VCALENDAR
