BEGIN:VCALENDAR
VERSION:2.0
PRODID:-//Squarespace Inc/Squarespace 6//v6//EN
BEGIN:VEVENT
UID:54a6cd2ce4b03ccd2a033571@squarespace.com
DTSTAMP:20150102T165456Z
DTSTART:20151006T210000Z
DTEND:20151006T220000Z
SUMMARY:Galesburg Unit
GEO:42.047647;-93.622422
LOCATION:Galesburg Labor Temple\, 2423 Grand Ave.\, Galesburg\, IL
END:VEVENT
END:VCALENDAR
