BEGIN:VCALENDAR
VERSION:2.0
PRODID:-//Squarespace Inc/Squarespace 6//v6//EN
BEGIN:VEVENT
UID:54a6d037e4b0243cdd4c8f58@squarespace.com
DTSTAMP:20150102T170746Z
DTSTART:20151014T200000Z
DTEND:20151014T210000Z
SUMMARY:Baldwin Unit
GEO:32.153217;-94.800893
LOCATION:The Bullpen\, 101 N. VanBuren St.\, New Athens\, IL
END:VEVENT
END:VCALENDAR
