BEGIN:VCALENDAR
VERSION:2.0
PRODID:-//Squarespace Inc/Squarespace 6//v6//EN
BEGIN:VEVENT
UID:54a6cfbee4b03d35acc5d756@squarespace.com
DTSTAMP:20150102T170547Z
DTSTART:20151013T213000Z
DTEND:20151013T223000Z
SUMMARY:Champaign Unit
GEO:40.130829;-88.252935
LOCATION:VFW Post 5520\, 609 Edgebrook Dr\, Champaign\, IL\, 61820\, United 
 States
END:VEVENT
END:VCALENDAR
