BEGIN:VCALENDAR
VERSION:2.0
PRODID:-//Squarespace Inc/Squarespace 6//v6//EN
BEGIN:VEVENT
UID:54a6cf73e4b0d1cd06ec48a1@squarespace.com
DTSTAMP:20150102T170421Z
DTSTART:20151012T040000Z
DTEND:20151013T030000Z
SUMMARY:Columbus Day (observed)
END:VEVENT
END:VCALENDAR
