BEGIN:VCALENDAR
VERSION:2.0
PRODID:-//Squarespace Inc/Squarespace 6//v6//EN
BEGIN:VEVENT
UID:54a6cc6ee4b00fb49e1584db@squarespace.com
DTSTAMP:20150102T165126Z
DTSTART:20151001T213000Z
DTEND:20151001T223000Z
SUMMARY:Springfield Unit
GEO:39.743448;-89.712231
LOCATION:IBEW Local 51 Hall\, 3171 Greenhead Dr\, Springfield\, IL\, 62711\
 , United States
END:VEVENT
END:VCALENDAR
