BEGIN:VCALENDAR
VERSION:2.0
PRODID:-//Squarespace Inc/Squarespace 6//v6//EN
BEGIN:VEVENT
UID:549841dbe4b08be712d7aeab@squarespace.com
DTSTAMP:20141222T175446Z
DTSTART:20150110T003000Z
DTEND:20150110T013000Z
SUMMARY:Construction
GEO:39.743448;-89.712231
LOCATION:I.B.E.W. Local 51 Hall\, 3171 Greenhead Dr\, Springfield\, IL\, 62
 711\, United States
END:VEVENT
END:VCALENDAR
