BEGIN:VCALENDAR
VERSION:2.0
PRODID:-//Squarespace Inc/Squarespace 6//v6//EN
BEGIN:VEVENT
UID:5498417de4b039edeefd490e@squarespace.com
DTSTAMP:20141222T175518Z
DTSTART:20150108T210000Z
DTEND:20150108T220000Z
SUMMARY:Wood River
GEO:38.934723;-90.154596
LOCATION:I.B.E.W. LU649\, 4051 Humbert Rd\, Alton\, IL\, 62002\, United Sta
 tes
END:VEVENT
END:VCALENDAR
