BEGIN:VCALENDAR
VERSION:2.0
PRODID:-//Squarespace Inc/Squarespace 6//v6//EN
BEGIN:VEVENT
UID:5498407de4b07cc94e323ff2@squarespace.com
DTSTAMP:20141222T175528Z
DTSTART:20150108T210000Z
DTEND:20150108T220000Z
SUMMARY:Decatur Unit 
GEO:39.884277;-88.935795
LOCATION:I.B.E.W. LU146\, 3390 N Woodford St\, Decatur\, IL\, 62526\, Unite
 d States
END:VEVENT
END:VCALENDAR
