BEGIN:VCALENDAR
VERSION:2.0
PRODID:-//Squarespace Inc/Squarespace 6//v6//EN
BEGIN:VEVENT
UID:549840c0e4b00bbcd9f37b46@squarespace.com
DTSTAMP:20141222T175507Z
DTSTART:20150108T220000Z
DTEND:20150108T230000Z
SUMMARY:Decatur Unit 15
GEO:39.884277;-88.935795
LOCATION:I.B.E.W. LU146\, 3390 N Woodford St\, Decatur\, IL\, 62526\, Unite
 d States
END:VEVENT
END:VCALENDAR
