BEGIN:VCALENDAR
VERSION:2.0
PRODID:-//Squarespace Inc/Squarespace 6//v6//EN
BEGIN:VEVENT
UID:54983f9be4b0b8fc5c54c6bd@squarespace.com
DTSTAMP:20141222T175549Z
DTSTART:20150107T220000Z
DTEND:20150107T230000Z
SUMMARY:Lincoln Unit
GEO:40.143601;-89.34882
LOCATION:K.C. Hall\, 217 Limit St\, Lincoln\, IL\, 62656\, United States
END:VEVENT
END:VCALENDAR
