BEGIN:VCALENDAR
VERSION:2.0
PRODID:-//Squarespace Inc/Squarespace 6//v6//EN
BEGIN:VEVENT
UID:54984008e4b0b348162de820@squarespace.com
DTSTAMP:20141222T175539Z
DTSTART:20150107T230000Z
DTEND:20150108T000000Z
SUMMARY:LaSalle Unit
GEO:41.353253;-89.102855
LOCATION:VFW 4668\, 2325 Donohue Street\, LaSalle\, IL
END:VEVENT
END:VCALENDAR
