BEGIN:VCALENDAR
VERSION:2.0
PRODID:-//Squarespace Inc/Squarespace 6//v6//EN
BEGIN:VEVENT
UID:54983f3ae4b0311b8ddb104e@squarespace.com
DTSTAMP:20141222T175600Z
DTSTART:20150107T210000Z
DTEND:20150107T220000Z
SUMMARY:Clinton Unit
GEO:40.150187;-88.951711
LOCATION:Elks Lodge #785\, 5120 E. South St.\, Clinton\, IL
END:VEVENT
END:VCALENDAR
