BEGIN:VCALENDAR
VERSION:2.0
PRODID:-//Squarespace Inc/Squarespace 6//v6//EN
BEGIN:VEVENT
UID:54983ebfe4b0fde326976db3@squarespace.com
DTSTAMP:20141222T175612Z
DTSTART:20150106T223000Z
DTEND:20150106T233000Z
SUMMARY:Springfield Unit
GEO:39.743448;-89.712231
LOCATION:I.B.E.W. Local 51 Hall\, 3171 Greenhead Dr\, Springfield\, IL\, 62
 711\, United States
END:VEVENT
END:VCALENDAR
