BEGIN:VCALENDAR
VERSION:2.0
PRODID:-//Squarespace Inc/Squarespace 6//v6//EN
BEGIN:VEVENT
UID:54983d8fe4b0a4688eaea585@squarespace.com
DTSTAMP:20141222T175633Z
DTSTART:20150106T210000Z
DTEND:20150106T220000Z
SUMMARY:Havana Unit
GEO:41.603289;-87.518429
LOCATION:VFW\, 425 W. Ave\, Havana\, IL
END:VEVENT
END:VCALENDAR
