BEGIN:VCALENDAR
VERSION:2.0
PRODID:-//Squarespace Inc/Squarespace 6//v6//EN
BEGIN:VEVENT
UID:54983e68e4b0b8fc5c54c387@squarespace.com
DTSTAMP:20141222T175623Z
DTSTART:20150106T220000Z
DTEND:20150106T230000Z
SUMMARY:Galesburg Unit
GEO:40.932711;-90.333079
LOCATION:Galesburg Labor Temple\, 2423 Grand Ave.\, Galesburg\, IL
END:VEVENT
END:VCALENDAR
