BEGIN:VCALENDAR
VERSION:2.0
PRODID:-//Squarespace Inc/Squarespace 6//v6//EN
BEGIN:VEVENT
UID:54984419e4b0bff4592dd63f@squarespace.com
DTSTAMP:20141226T153522Z
DTSTART:20150124T140000Z
DTEND:20150124T170000Z
SUMMARY:Executive Board
GEO:39.743448;-89.712231
LOCATION:I.B.E.W. Local 51 Hall\, 3171 Greenhead Dr\, Springfield\, IL\, 62
 711\, United States
END:VEVENT
END:VCALENDAR
