BEGIN:VCALENDAR
VERSION:2.0
PRODID:-//Squarespace Inc/Squarespace 6//v6//EN
BEGIN:VEVENT
UID:549843bee4b044170dc9b3c0@squarespace.com
DTSTAMP:20141222T175405Z
DTSTART:20150115T003000Z
DTEND:20150115T013000Z
SUMMARY:Jacksonville Unit
GEO:39.734908;-90.22799
LOCATION:AmVets Post 100\, 210 E. Court St.\, Jacksonville\, IL
END:VEVENT
END:VCALENDAR
