BEGIN:VCALENDAR
VERSION:2.0
PRODID:-//Squarespace Inc/Squarespace 6//v6//EN
BEGIN:VEVENT
UID:5498436ce4b01fe317ed91d2@squarespace.com
DTSTAMP:20141222T175415Z
DTSTART:20150114T210000Z
DTEND:20150114T220000Z
SUMMARY:Baldwin Unit
GEO:38.325745;-89.878519
LOCATION:The Bullpen\, 101 N. Van Buren St.\, New Athens\, IL
END:VEVENT
END:VCALENDAR
