BEGIN:VCALENDAR
VERSION:2.0
PRODID:-//Squarespace Inc/Squarespace 6//v6//EN
BEGIN:VEVENT
UID:54984245e4b0bc65ffa99d05@squarespace.com
DTSTAMP:20141222T175436Z
DTSTART:20150113T223000Z
DTEND:20150113T233000Z
SUMMARY:Champaign Unit
GEO:40.130829;-88.252935
LOCATION:VFW Post 5520\, 609 Edgebrooke Dr.\, Champaign\, IL 61820
END:VEVENT
END:VCALENDAR
