BEGIN:VCALENDAR
VERSION:2.0
PRODID:-//Squarespace Inc/Squarespace 6//v6//EN
BEGIN:VEVENT
UID:5498429ee4b0f6433a3347b6@squarespace.com
DTSTAMP:20141222T175425Z
DTSTART:20150113T230000Z
DTEND:20150114T000000Z
SUMMARY:Bloomington Unit
GEO:40.443059;-89.023341
LOCATION:I.B.E.W. LU197\, 2407 Beich Rd\, Bloomington\, IL\, 61705\, United 
 States
END:VEVENT
END:VCALENDAR
