BEGIN:VCALENDAR
VERSION:2.0
PRODID:-//Squarespace Inc/Squarespace 6//v6//EN
BEGIN:VEVENT
UID:54983a2de4b0bb6c8ef3c104@squarespace.com
DTSTAMP:20141222T154035Z
DTSTART:20150101T130000Z
DTEND:20150101T220000Z
SUMMARY:New Year's Day - Office Closed
END:VEVENT
END:VCALENDAR
