BEGIN:VCALENDAR
VERSION:2.0
PRODID:-//Squarespace Inc/Squarespace 6//v6//EN
BEGIN:VEVENT
UID:54467757e4b01a543eebcbc8@squarespace.com
DTSTAMP:20141021T151257Z
DTSTART:20141209T223000Z
DTEND:20141209T233000Z
SUMMARY:Champaign Unit Meeting
GEO:40.130829;-88.252935
LOCATION:VFW Post 5520\, 609 Edgebrook Dr\, Champaign\, IL\, 61820\, United 
 States
END:VEVENT
END:VCALENDAR
