BEGIN:VCALENDAR
VERSION:2.0
PRODID:-//Squarespace Inc/Squarespace 6//v6//EN
BEGIN:VEVENT
UID:544675b0e4b0a530e1fae34b@squarespace.com
DTSTAMP:20141201T170029Z
DTSTART:20141204T223000Z
DTEND:20141204T233000Z
SUMMARY:Springfield Unit Meeting
GEO:39.743448;-89.712231
LOCATION:I.B.E.W. Local 51 Hall\, 3171 Greenhead Dr\, Springfield\, IL\, 62
 711\, United States
END:VEVENT
END:VCALENDAR
