BEGIN:VCALENDAR
VERSION:2.0
PRODID:-//Squarespace Inc/Squarespace 6//v6//EN
BEGIN:VEVENT
UID:54467cb3e4b05987e3972233@squarespace.com
DTSTAMP:20141021T153514Z
DTSTART:20141231T130000Z
DTEND:20141231T220000Z
SUMMARY:New Year's Eve - Office Closed
END:VEVENT
END:VCALENDAR
