BEGIN:VCALENDAR
VERSION:2.0
PRODID:-//Squarespace Inc/Squarespace 6//v6//EN
BEGIN:VEVENT
UID:54a2f38be4b018d3a3014ac5@squarespace.com
DTSTAMP:20141230T185132Z
DTSTART:20141230T190000Z
DTEND:20141230T200000Z
SUMMARY:Executive Board
GEO:39.743448;-89.712231
LOCATION:IBEW Local 51\, 3171 Greenhead Dr\, Springfield\, IL\, 62711\, Uni
 ted States
END:VEVENT
END:VCALENDAR
